BEGIN:VCALENDAR
PRODID:-//eluceo/ical//2.0/EN
VERSION:2.0
CALSCALE:GREGORIAN
BEGIN:VEVENT
UID:1a252b38c4b3f5d66df23e7197a4ab90
DTSTAMP:20260421T164428Z
SUMMARY:Woodpeckers Parent & Toddler Afternoon Group
DESCRIPTION:Description:\nJoin Woody the Woodpecker for Summer adventures a
 t this outdoor parent & toddler group at Sutton Ecology Centre! Take time
  to explore nature with your toddler as they gain confidence through activ
 ities and woodland walks. Watch the tadpoles grow their legs! Plus weekly 
 stories\, woodland walk and snacks. Suitable for preschool confident walke
 rs up to 5yrs. The group is entirely outdoors\, and there is a mud kitchen
 \, so wear suitable clothing! There is a toilet with changing facilities a
 vailable\, and a shelter if it rains.The group is weekly on Fridays 1:30-3
 pm ( although feel free to arrive and leave 15mins early to fit in with sc
 hool pick up).Ticket price is for a block of 5 weeks:Friday April 24th\, M
 ay 1st\, 8th\, 15th & 22nd.Book tickets for children only.Unfortunately\, 
 we cannot offer refunds on weeks missed. Please note there is no pay as yo
 u go option.\n\nRequirements:\nImportant safety information:    This cours
 e is an outdoor event (which will go ahead regardless of the weather) and 
 walking conditions may be slightly muddy\, and the weather unpredictable\,
  so please make sure you and your child wear suitable clothing and footwea
 r.  The event is in a nature reserve\, which means that there are the occa
 sional stinging nettles and brambles\, we advise that you and your child w
 ear long trousers or leggings to minimise stings and scratches.  There is 
 also a higher risk of insect stings such as wasp or mosquito\, if your chi
 ld is allergic to stings\, please ensure that you have their medication.  
 You are required to stay with your child throughout the event and are resp
 onsible for your childs' behaviour and safety.  Please take care not to di
 sturb or damage any of the habitats\, plants or animals living at the natu
 re reserve and never touch or feed the foxes or ducks.
URL:https://events.sutton.gov.uk/event?id=340957
DTSTART;TZID=Europe/London:20260424T133000
DTEND;TZID=Europe/London:20260424T150000
LOCATION:Sutton Ecology Centre\, Festival Walk\, Carshalton SM5 3NY 
END:VEVENT
BEGIN:VTIMEZONE
TZID:Europe/London
BEGIN:DAYLIGHT
DTSTART:20200501T000000
TZNAME:BST
TZOFFSETTO:+0100
TZOFFSETFROM:+0100
END:DAYLIGHT
BEGIN:STANDARD
DTSTART:20201025T010000
TZNAME:GMT
TZOFFSETTO:+0000
TZOFFSETFROM:+0100
END:STANDARD
BEGIN:DAYLIGHT
DTSTART:20210328T020000
TZNAME:BST
TZOFFSETTO:+0100
TZOFFSETFROM:+0000
END:DAYLIGHT
BEGIN:STANDARD
DTSTART:20211031T010000
TZNAME:GMT
TZOFFSETTO:+0000
TZOFFSETFROM:+0100
END:STANDARD
BEGIN:DAYLIGHT
DTSTART:20220327T020000
TZNAME:BST
TZOFFSETTO:+0100
TZOFFSETFROM:+0000
END:DAYLIGHT
BEGIN:STANDARD
DTSTART:20221030T010000
TZNAME:GMT
TZOFFSETTO:+0000
TZOFFSETFROM:+0100
END:STANDARD
BEGIN:DAYLIGHT
DTSTART:20230326T020000
TZNAME:BST
TZOFFSETTO:+0100
TZOFFSETFROM:+0000
END:DAYLIGHT
BEGIN:STANDARD
DTSTART:20231029T010000
TZNAME:GMT
TZOFFSETTO:+0000
TZOFFSETFROM:+0100
END:STANDARD
BEGIN:DAYLIGHT
DTSTART:20240331T020000
TZNAME:BST
TZOFFSETTO:+0100
TZOFFSETFROM:+0000
END:DAYLIGHT
BEGIN:STANDARD
DTSTART:20241027T010000
TZNAME:GMT
TZOFFSETTO:+0000
TZOFFSETFROM:+0100
END:STANDARD
BEGIN:DAYLIGHT
DTSTART:20250330T020000
TZNAME:BST
TZOFFSETTO:+0100
TZOFFSETFROM:+0000
END:DAYLIGHT
BEGIN:STANDARD
DTSTART:20251026T010000
TZNAME:GMT
TZOFFSETTO:+0000
TZOFFSETFROM:+0100
END:STANDARD
BEGIN:DAYLIGHT
DTSTART:20260329T020000
TZNAME:BST
TZOFFSETTO:+0100
TZOFFSETFROM:+0000
END:DAYLIGHT
BEGIN:STANDARD
DTSTART:20261025T010000
TZNAME:GMT
TZOFFSETTO:+0000
TZOFFSETFROM:+0100
END:STANDARD
BEGIN:DAYLIGHT
DTSTART:20270328T020000
TZNAME:BST
TZOFFSETTO:+0100
TZOFFSETFROM:+0000
END:DAYLIGHT
BEGIN:STANDARD
DTSTART:20271031T010000
TZNAME:GMT
TZOFFSETTO:+0000
TZOFFSETFROM:+0100
END:STANDARD
BEGIN:DAYLIGHT
DTSTART:20280326T020000
TZNAME:BST
TZOFFSETTO:+0100
TZOFFSETFROM:+0000
END:DAYLIGHT
BEGIN:STANDARD
DTSTART:20281029T010000
TZNAME:GMT
TZOFFSETTO:+0000
TZOFFSETFROM:+0100
END:STANDARD
BEGIN:DAYLIGHT
DTSTART:20290325T020000
TZNAME:BST
TZOFFSETTO:+0100
TZOFFSETFROM:+0000
END:DAYLIGHT
BEGIN:STANDARD
DTSTART:20291028T010000
TZNAME:GMT
TZOFFSETTO:+0000
TZOFFSETFROM:+0100
END:STANDARD
BEGIN:DAYLIGHT
DTSTART:20300331T020000
TZNAME:BST
TZOFFSETTO:+0100
TZOFFSETFROM:+0000
END:DAYLIGHT
BEGIN:STANDARD
DTSTART:20301027T010000
TZNAME:GMT
TZOFFSETTO:+0000
TZOFFSETFROM:+0100
END:STANDARD
BEGIN:DAYLIGHT
DTSTART:20310330T020000
TZNAME:BST
TZOFFSETTO:+0100
TZOFFSETFROM:+0000
END:DAYLIGHT
BEGIN:STANDARD
DTSTART:20311026T010000
TZNAME:GMT
TZOFFSETTO:+0000
TZOFFSETFROM:+0100
END:STANDARD
BEGIN:DAYLIGHT
DTSTART:20320328T020000
TZNAME:BST
TZOFFSETTO:+0100
TZOFFSETFROM:+0000
END:DAYLIGHT
BEGIN:STANDARD
DTSTART:20321031T010000
TZNAME:GMT
TZOFFSETTO:+0000
TZOFFSETFROM:+0100
END:STANDARD
BEGIN:DAYLIGHT
DTSTART:20330327T020000
TZNAME:BST
TZOFFSETTO:+0100
TZOFFSETFROM:+0000
END:DAYLIGHT
BEGIN:STANDARD
DTSTART:20331030T010000
TZNAME:GMT
TZOFFSETTO:+0000
TZOFFSETFROM:+0100
END:STANDARD
BEGIN:DAYLIGHT
DTSTART:20340326T020000
TZNAME:BST
TZOFFSETTO:+0100
TZOFFSETFROM:+0000
END:DAYLIGHT
BEGIN:STANDARD
DTSTART:20341029T010000
TZNAME:GMT
TZOFFSETTO:+0000
TZOFFSETFROM:+0100
END:STANDARD
BEGIN:DAYLIGHT
DTSTART:20350325T020000
TZNAME:BST
TZOFFSETTO:+0100
TZOFFSETFROM:+0000
END:DAYLIGHT
BEGIN:STANDARD
DTSTART:20351028T010000
TZNAME:GMT
TZOFFSETTO:+0000
TZOFFSETFROM:+0100
END:STANDARD
BEGIN:DAYLIGHT
DTSTART:20360330T020000
TZNAME:BST
TZOFFSETTO:+0100
TZOFFSETFROM:+0000
END:DAYLIGHT
BEGIN:STANDARD
DTSTART:20361026T010000
TZNAME:GMT
TZOFFSETTO:+0000
TZOFFSETFROM:+0100
END:STANDARD
BEGIN:DAYLIGHT
DTSTART:20370329T020000
TZNAME:BST
TZOFFSETTO:+0100
TZOFFSETFROM:+0000
END:DAYLIGHT
BEGIN:STANDARD
DTSTART:20371025T010000
TZNAME:GMT
TZOFFSETTO:+0000
TZOFFSETFROM:+0100
END:STANDARD
BEGIN:DAYLIGHT
DTSTART:20380328T020000
TZNAME:BST
TZOFFSETTO:+0100
TZOFFSETFROM:+0000
END:DAYLIGHT
BEGIN:STANDARD
DTSTART:20381031T010000
TZNAME:GMT
TZOFFSETTO:+0000
TZOFFSETFROM:+0100
END:STANDARD
BEGIN:DAYLIGHT
DTSTART:20390327T020000
TZNAME:BST
TZOFFSETTO:+0100
TZOFFSETFROM:+0000
END:DAYLIGHT
BEGIN:STANDARD
DTSTART:20391030T010000
TZNAME:GMT
TZOFFSETTO:+0000
TZOFFSETFROM:+0100
END:STANDARD
BEGIN:DAYLIGHT
DTSTART:20400325T020000
TZNAME:BST
TZOFFSETTO:+0100
TZOFFSETFROM:+0000
END:DAYLIGHT
BEGIN:STANDARD
DTSTART:20401028T010000
TZNAME:GMT
TZOFFSETTO:+0000
TZOFFSETFROM:+0100
END:STANDARD
BEGIN:DAYLIGHT
DTSTART:20410331T020000
TZNAME:BST
TZOFFSETTO:+0100
TZOFFSETFROM:+0000
END:DAYLIGHT
BEGIN:STANDARD
DTSTART:20411027T010000
TZNAME:GMT
TZOFFSETTO:+0000
TZOFFSETFROM:+0100
END:STANDARD
BEGIN:DAYLIGHT
DTSTART:20420330T020000
TZNAME:BST
TZOFFSETTO:+0100
TZOFFSETFROM:+0000
END:DAYLIGHT
BEGIN:STANDARD
DTSTART:20421026T010000
TZNAME:GMT
TZOFFSETTO:+0000
TZOFFSETFROM:+0100
END:STANDARD
BEGIN:DAYLIGHT
DTSTART:20430329T020000
TZNAME:BST
TZOFFSETTO:+0100
TZOFFSETFROM:+0000
END:DAYLIGHT
BEGIN:STANDARD
DTSTART:20431025T010000
TZNAME:GMT
TZOFFSETTO:+0000
TZOFFSETFROM:+0100
END:STANDARD
BEGIN:DAYLIGHT
DTSTART:20440327T020000
TZNAME:BST
TZOFFSETTO:+0100
TZOFFSETFROM:+0000
END:DAYLIGHT
BEGIN:STANDARD
DTSTART:20441030T010000
TZNAME:GMT
TZOFFSETTO:+0000
TZOFFSETFROM:+0100
END:STANDARD
BEGIN:DAYLIGHT
DTSTART:20450326T020000
TZNAME:BST
TZOFFSETTO:+0100
TZOFFSETFROM:+0000
END:DAYLIGHT
BEGIN:STANDARD
DTSTART:20451029T010000
TZNAME:GMT
TZOFFSETTO:+0000
TZOFFSETFROM:+0100
END:STANDARD
BEGIN:DAYLIGHT
DTSTART:20460325T020000
TZNAME:BST
TZOFFSETTO:+0100
TZOFFSETFROM:+0000
END:DAYLIGHT
BEGIN:STANDARD
DTSTART:20461028T010000
TZNAME:GMT
TZOFFSETTO:+0000
TZOFFSETFROM:+0100
END:STANDARD
BEGIN:DAYLIGHT
DTSTART:20470331T020000
TZNAME:BST
TZOFFSETTO:+0100
TZOFFSETFROM:+0000
END:DAYLIGHT
BEGIN:STANDARD
DTSTART:20471027T010000
TZNAME:GMT
TZOFFSETTO:+0000
TZOFFSETFROM:+0100
END:STANDARD
BEGIN:DAYLIGHT
DTSTART:20480329T020000
TZNAME:BST
TZOFFSETTO:+0100
TZOFFSETFROM:+0000
END:DAYLIGHT
BEGIN:STANDARD
DTSTART:20481025T010000
TZNAME:GMT
TZOFFSETTO:+0000
TZOFFSETFROM:+0100
END:STANDARD
BEGIN:DAYLIGHT
DTSTART:20490328T020000
TZNAME:BST
TZOFFSETTO:+0100
TZOFFSETFROM:+0000
END:DAYLIGHT
BEGIN:STANDARD
DTSTART:20491031T010000
TZNAME:GMT
TZOFFSETTO:+0000
TZOFFSETFROM:+0100
END:STANDARD
BEGIN:DAYLIGHT
DTSTART:20500327T020000
TZNAME:BST
TZOFFSETTO:+0100
TZOFFSETFROM:+0000
END:DAYLIGHT
BEGIN:STANDARD
DTSTART:20501030T010000
TZNAME:GMT
TZOFFSETTO:+0000
TZOFFSETFROM:+0100
END:STANDARD
BEGIN:DAYLIGHT
DTSTART:20510326T020000
TZNAME:BST
TZOFFSETTO:+0100
TZOFFSETFROM:+0000
END:DAYLIGHT
BEGIN:STANDARD
DTSTART:20511029T010000
TZNAME:GMT
TZOFFSETTO:+0000
TZOFFSETFROM:+0100
END:STANDARD
BEGIN:DAYLIGHT
DTSTART:20520331T020000
TZNAME:BST
TZOFFSETTO:+0100
TZOFFSETFROM:+0000
END:DAYLIGHT
BEGIN:STANDARD
DTSTART:20521027T010000
TZNAME:GMT
TZOFFSETTO:+0000
TZOFFSETFROM:+0100
END:STANDARD
BEGIN:DAYLIGHT
DTSTART:20530330T020000
TZNAME:BST
TZOFFSETTO:+0100
TZOFFSETFROM:+0000
END:DAYLIGHT
BEGIN:STANDARD
DTSTART:20531026T010000
TZNAME:GMT
TZOFFSETTO:+0000
TZOFFSETFROM:+0100
END:STANDARD
BEGIN:DAYLIGHT
DTSTART:20540329T020000
TZNAME:BST
TZOFFSETTO:+0100
TZOFFSETFROM:+0000
END:DAYLIGHT
BEGIN:STANDARD
DTSTART:20541025T010000
TZNAME:GMT
TZOFFSETTO:+0000
TZOFFSETFROM:+0100
END:STANDARD
BEGIN:DAYLIGHT
DTSTART:20550328T020000
TZNAME:BST
TZOFFSETTO:+0100
TZOFFSETFROM:+0000
END:DAYLIGHT
BEGIN:STANDARD
DTSTART:20551031T010000
TZNAME:GMT
TZOFFSETTO:+0000
TZOFFSETFROM:+0100
END:STANDARD
BEGIN:DAYLIGHT
DTSTART:20560326T020000
TZNAME:BST
TZOFFSETTO:+0100
TZOFFSETFROM:+0000
END:DAYLIGHT
BEGIN:STANDARD
DTSTART:20561029T010000
TZNAME:GMT
TZOFFSETTO:+0000
TZOFFSETFROM:+0100
END:STANDARD
BEGIN:DAYLIGHT
DTSTART:20570325T020000
TZNAME:BST
TZOFFSETTO:+0100
TZOFFSETFROM:+0000
END:DAYLIGHT
BEGIN:STANDARD
DTSTART:20571028T010000
TZNAME:GMT
TZOFFSETTO:+0000
TZOFFSETFROM:+0100
END:STANDARD
BEGIN:DAYLIGHT
DTSTART:20580331T020000
TZNAME:BST
TZOFFSETTO:+0100
TZOFFSETFROM:+0000
END:DAYLIGHT
BEGIN:STANDARD
DTSTART:20581027T010000
TZNAME:GMT
TZOFFSETTO:+0000
TZOFFSETFROM:+0100
END:STANDARD
BEGIN:DAYLIGHT
DTSTART:20590330T020000
TZNAME:BST
TZOFFSETTO:+0100
TZOFFSETFROM:+0000
END:DAYLIGHT
BEGIN:STANDARD
DTSTART:20591026T010000
TZNAME:GMT
TZOFFSETTO:+0000
TZOFFSETFROM:+0100
END:STANDARD
BEGIN:DAYLIGHT
DTSTART:20600328T020000
TZNAME:BST
TZOFFSETTO:+0100
TZOFFSETFROM:+0000
END:DAYLIGHT
BEGIN:STANDARD
DTSTART:20601031T010000
TZNAME:GMT
TZOFFSETTO:+0000
TZOFFSETFROM:+0100
END:STANDARD
BEGIN:DAYLIGHT
DTSTART:20610327T020000
TZNAME:BST
TZOFFSETTO:+0100
TZOFFSETFROM:+0000
END:DAYLIGHT
BEGIN:STANDARD
DTSTART:20611030T010000
TZNAME:GMT
TZOFFSETTO:+0000
TZOFFSETFROM:+0100
END:STANDARD
BEGIN:DAYLIGHT
DTSTART:20620326T020000
TZNAME:BST
TZOFFSETTO:+0100
TZOFFSETFROM:+0000
END:DAYLIGHT
BEGIN:STANDARD
DTSTART:20621029T010000
TZNAME:GMT
TZOFFSETTO:+0000
TZOFFSETFROM:+0100
END:STANDARD
BEGIN:DAYLIGHT
DTSTART:20630325T020000
TZNAME:BST
TZOFFSETTO:+0100
TZOFFSETFROM:+0000
END:DAYLIGHT
BEGIN:STANDARD
DTSTART:20631028T010000
TZNAME:GMT
TZOFFSETTO:+0000
TZOFFSETFROM:+0100
END:STANDARD
BEGIN:DAYLIGHT
DTSTART:20640330T020000
TZNAME:BST
TZOFFSETTO:+0100
TZOFFSETFROM:+0000
END:DAYLIGHT
BEGIN:STANDARD
DTSTART:20641026T010000
TZNAME:GMT
TZOFFSETTO:+0000
TZOFFSETFROM:+0100
END:STANDARD
BEGIN:DAYLIGHT
DTSTART:20650329T020000
TZNAME:BST
TZOFFSETTO:+0100
TZOFFSETFROM:+0000
END:DAYLIGHT
BEGIN:STANDARD
DTSTART:20651025T010000
TZNAME:GMT
TZOFFSETTO:+0000
TZOFFSETFROM:+0100
END:STANDARD
BEGIN:DAYLIGHT
DTSTART:20660328T020000
TZNAME:BST
TZOFFSETTO:+0100
TZOFFSETFROM:+0000
END:DAYLIGHT
BEGIN:STANDARD
DTSTART:20661031T010000
TZNAME:GMT
TZOFFSETTO:+0000
TZOFFSETFROM:+0100
END:STANDARD
BEGIN:DAYLIGHT
DTSTART:20670327T020000
TZNAME:BST
TZOFFSETTO:+0100
TZOFFSETFROM:+0000
END:DAYLIGHT
BEGIN:STANDARD
DTSTART:20671030T010000
TZNAME:GMT
TZOFFSETTO:+0000
TZOFFSETFROM:+0100
END:STANDARD
BEGIN:DAYLIGHT
DTSTART:20680325T020000
TZNAME:BST
TZOFFSETTO:+0100
TZOFFSETFROM:+0000
END:DAYLIGHT
BEGIN:STANDARD
DTSTART:20681028T010000
TZNAME:GMT
TZOFFSETTO:+0000
TZOFFSETFROM:+0100
END:STANDARD
BEGIN:DAYLIGHT
DTSTART:20690331T020000
TZNAME:BST
TZOFFSETTO:+0100
TZOFFSETFROM:+0000
END:DAYLIGHT
BEGIN:STANDARD
DTSTART:20691027T010000
TZNAME:GMT
TZOFFSETTO:+0000
TZOFFSETFROM:+0100
END:STANDARD
BEGIN:DAYLIGHT
DTSTART:20700330T020000
TZNAME:BST
TZOFFSETTO:+0100
TZOFFSETFROM:+0000
END:DAYLIGHT
BEGIN:STANDARD
DTSTART:20701026T010000
TZNAME:GMT
TZOFFSETTO:+0000
TZOFFSETFROM:+0100
END:STANDARD
BEGIN:DAYLIGHT
DTSTART:20710329T020000
TZNAME:BST
TZOFFSETTO:+0100
TZOFFSETFROM:+0000
END:DAYLIGHT
BEGIN:STANDARD
DTSTART:20711025T010000
TZNAME:GMT
TZOFFSETTO:+0000
TZOFFSETFROM:+0100
END:STANDARD
BEGIN:DAYLIGHT
DTSTART:20720327T020000
TZNAME:BST
TZOFFSETTO:+0100
TZOFFSETFROM:+0000
END:DAYLIGHT
BEGIN:STANDARD
DTSTART:20721030T010000
TZNAME:GMT
TZOFFSETTO:+0000
TZOFFSETFROM:+0100
END:STANDARD
BEGIN:DAYLIGHT
DTSTART:20730326T020000
TZNAME:BST
TZOFFSETTO:+0100
TZOFFSETFROM:+0000
END:DAYLIGHT
BEGIN:STANDARD
DTSTART:20731029T010000
TZNAME:GMT
TZOFFSETTO:+0000
TZOFFSETFROM:+0100
END:STANDARD
BEGIN:DAYLIGHT
DTSTART:20740325T020000
TZNAME:BST
TZOFFSETTO:+0100
TZOFFSETFROM:+0000
END:DAYLIGHT
BEGIN:STANDARD
DTSTART:20741028T010000
TZNAME:GMT
TZOFFSETTO:+0000
TZOFFSETFROM:+0100
END:STANDARD
BEGIN:DAYLIGHT
DTSTART:20750331T020000
TZNAME:BST
TZOFFSETTO:+0100
TZOFFSETFROM:+0000
END:DAYLIGHT
BEGIN:STANDARD
DTSTART:20751027T010000
TZNAME:GMT
TZOFFSETTO:+0000
TZOFFSETFROM:+0100
END:STANDARD
BEGIN:DAYLIGHT
DTSTART:20760329T020000
TZNAME:BST
TZOFFSETTO:+0100
TZOFFSETFROM:+0000
END:DAYLIGHT
BEGIN:STANDARD
DTSTART:20761025T010000
TZNAME:GMT
TZOFFSETTO:+0000
TZOFFSETFROM:+0100
END:STANDARD
BEGIN:DAYLIGHT
DTSTART:20770328T020000
TZNAME:BST
TZOFFSETTO:+0100
TZOFFSETFROM:+0000
END:DAYLIGHT
BEGIN:STANDARD
DTSTART:20771031T010000
TZNAME:GMT
TZOFFSETTO:+0000
TZOFFSETFROM:+0100
END:STANDARD
BEGIN:DAYLIGHT
DTSTART:20780327T020000
TZNAME:BST
TZOFFSETTO:+0100
TZOFFSETFROM:+0000
END:DAYLIGHT
BEGIN:STANDARD
DTSTART:20781030T010000
TZNAME:GMT
TZOFFSETTO:+0000
TZOFFSETFROM:+0100
END:STANDARD
BEGIN:DAYLIGHT
DTSTART:20790326T020000
TZNAME:BST
TZOFFSETTO:+0100
TZOFFSETFROM:+0000
END:DAYLIGHT
BEGIN:STANDARD
DTSTART:20791029T010000
TZNAME:GMT
TZOFFSETTO:+0000
TZOFFSETFROM:+0100
END:STANDARD
BEGIN:DAYLIGHT
DTSTART:20800331T020000
TZNAME:BST
TZOFFSETTO:+0100
TZOFFSETFROM:+0000
END:DAYLIGHT
BEGIN:STANDARD
DTSTART:20801027T010000
TZNAME:GMT
TZOFFSETTO:+0000
TZOFFSETFROM:+0100
END:STANDARD
BEGIN:DAYLIGHT
DTSTART:20810330T020000
TZNAME:BST
TZOFFSETTO:+0100
TZOFFSETFROM:+0000
END:DAYLIGHT
BEGIN:STANDARD
DTSTART:20811026T010000
TZNAME:GMT
TZOFFSETTO:+0000
TZOFFSETFROM:+0100
END:STANDARD
BEGIN:DAYLIGHT
DTSTART:20820329T020000
TZNAME:BST
TZOFFSETTO:+0100
TZOFFSETFROM:+0000
END:DAYLIGHT
BEGIN:STANDARD
DTSTART:20821025T010000
TZNAME:GMT
TZOFFSETTO:+0000
TZOFFSETFROM:+0100
END:STANDARD
BEGIN:DAYLIGHT
DTSTART:20830328T020000
TZNAME:BST
TZOFFSETTO:+0100
TZOFFSETFROM:+0000
END:DAYLIGHT
BEGIN:STANDARD
DTSTART:20831031T010000
TZNAME:GMT
TZOFFSETTO:+0000
TZOFFSETFROM:+0100
END:STANDARD
BEGIN:DAYLIGHT
DTSTART:20840326T020000
TZNAME:BST
TZOFFSETTO:+0100
TZOFFSETFROM:+0000
END:DAYLIGHT
BEGIN:STANDARD
DTSTART:20841029T010000
TZNAME:GMT
TZOFFSETTO:+0000
TZOFFSETFROM:+0100
END:STANDARD
BEGIN:DAYLIGHT
DTSTART:20850325T020000
TZNAME:BST
TZOFFSETTO:+0100
TZOFFSETFROM:+0000
END:DAYLIGHT
BEGIN:STANDARD
DTSTART:20851028T010000
TZNAME:GMT
TZOFFSETTO:+0000
TZOFFSETFROM:+0100
END:STANDARD
BEGIN:DAYLIGHT
DTSTART:20860331T020000
TZNAME:BST
TZOFFSETTO:+0100
TZOFFSETFROM:+0000
END:DAYLIGHT
BEGIN:STANDARD
DTSTART:20861027T010000
TZNAME:GMT
TZOFFSETTO:+0000
TZOFFSETFROM:+0100
END:STANDARD
BEGIN:DAYLIGHT
DTSTART:20870330T020000
TZNAME:BST
TZOFFSETTO:+0100
TZOFFSETFROM:+0000
END:DAYLIGHT
BEGIN:STANDARD
DTSTART:20871026T010000
TZNAME:GMT
TZOFFSETTO:+0000
TZOFFSETFROM:+0100
END:STANDARD
BEGIN:DAYLIGHT
DTSTART:20880328T020000
TZNAME:BST
TZOFFSETTO:+0100
TZOFFSETFROM:+0000
END:DAYLIGHT
BEGIN:STANDARD
DTSTART:20881031T010000
TZNAME:GMT
TZOFFSETTO:+0000
TZOFFSETFROM:+0100
END:STANDARD
BEGIN:DAYLIGHT
DTSTART:20890327T020000
TZNAME:BST
TZOFFSETTO:+0100
TZOFFSETFROM:+0000
END:DAYLIGHT
BEGIN:STANDARD
DTSTART:20891030T010000
TZNAME:GMT
TZOFFSETTO:+0000
TZOFFSETFROM:+0100
END:STANDARD
BEGIN:DAYLIGHT
DTSTART:20900326T020000
TZNAME:BST
TZOFFSETTO:+0100
TZOFFSETFROM:+0000
END:DAYLIGHT
BEGIN:STANDARD
DTSTART:20901029T010000
TZNAME:GMT
TZOFFSETTO:+0000
TZOFFSETFROM:+0100
END:STANDARD
BEGIN:DAYLIGHT
DTSTART:20910325T020000
TZNAME:BST
TZOFFSETTO:+0100
TZOFFSETFROM:+0000
END:DAYLIGHT
BEGIN:STANDARD
DTSTART:20911028T010000
TZNAME:GMT
TZOFFSETTO:+0000
TZOFFSETFROM:+0100
END:STANDARD
BEGIN:DAYLIGHT
DTSTART:20920330T020000
TZNAME:BST
TZOFFSETTO:+0100
TZOFFSETFROM:+0000
END:DAYLIGHT
BEGIN:STANDARD
DTSTART:20921026T010000
TZNAME:GMT
TZOFFSETTO:+0000
TZOFFSETFROM:+0100
END:STANDARD
BEGIN:DAYLIGHT
DTSTART:20930329T020000
TZNAME:BST
TZOFFSETTO:+0100
TZOFFSETFROM:+0000
END:DAYLIGHT
BEGIN:STANDARD
DTSTART:20931025T010000
TZNAME:GMT
TZOFFSETTO:+0000
TZOFFSETFROM:+0100
END:STANDARD
BEGIN:DAYLIGHT
DTSTART:20940328T020000
TZNAME:BST
TZOFFSETTO:+0100
TZOFFSETFROM:+0000
END:DAYLIGHT
BEGIN:STANDARD
DTSTART:20941031T010000
TZNAME:GMT
TZOFFSETTO:+0000
TZOFFSETFROM:+0100
END:STANDARD
BEGIN:DAYLIGHT
DTSTART:20950327T020000
TZNAME:BST
TZOFFSETTO:+0100
TZOFFSETFROM:+0000
END:DAYLIGHT
BEGIN:STANDARD
DTSTART:20951030T010000
TZNAME:GMT
TZOFFSETTO:+0000
TZOFFSETFROM:+0100
END:STANDARD
BEGIN:DAYLIGHT
DTSTART:20960325T020000
TZNAME:BST
TZOFFSETTO:+0100
TZOFFSETFROM:+0000
END:DAYLIGHT
BEGIN:STANDARD
DTSTART:20961028T010000
TZNAME:GMT
TZOFFSETTO:+0000
TZOFFSETFROM:+0100
END:STANDARD
BEGIN:DAYLIGHT
DTSTART:20970331T020000
TZNAME:BST
TZOFFSETTO:+0100
TZOFFSETFROM:+0000
END:DAYLIGHT
BEGIN:STANDARD
DTSTART:20971027T010000
TZNAME:GMT
TZOFFSETTO:+0000
TZOFFSETFROM:+0100
END:STANDARD
BEGIN:DAYLIGHT
DTSTART:20980330T020000
TZNAME:BST
TZOFFSETTO:+0100
TZOFFSETFROM:+0000
END:DAYLIGHT
BEGIN:STANDARD
DTSTART:20981026T010000
TZNAME:GMT
TZOFFSETTO:+0000
TZOFFSETFROM:+0100
END:STANDARD
BEGIN:DAYLIGHT
DTSTART:20990329T020000
TZNAME:BST
TZOFFSETTO:+0100
TZOFFSETFROM:+0000
END:DAYLIGHT
BEGIN:STANDARD
DTSTART:20991025T010000
TZNAME:GMT
TZOFFSETTO:+0000
TZOFFSETFROM:+0100
END:STANDARD
END:VTIMEZONE
END:VCALENDAR
